BEGIN:VCALENDAR
VERSION:2.0
PRODID:-//The Softball Club - ECPv6.7.1//NONSGML v1.0//EN
CALSCALE:GREGORIAN
METHOD:PUBLISH
X-ORIGINAL-URL:https://thesoftballclub.com
X-WR-CALDESC:Events for The Softball Club
REFRESH-INTERVAL;VALUE=DURATION:PT1H
X-Robots-Tag:noindex
X-PUBLISHED-TTL:PT1H
BEGIN:VTIMEZONE
TZID:America/Los_Angeles
BEGIN:DAYLIGHT
TZOFFSETFROM:-0800
TZOFFSETTO:-0700
TZNAME:PDT
DTSTART:20240310T100000
END:DAYLIGHT
BEGIN:STANDARD
TZOFFSETFROM:-0700
TZOFFSETTO:-0800
TZNAME:PST
DTSTART:20241103T090000
END:STANDARD
END:VTIMEZONE
BEGIN:VEVENT
DTSTART;TZID=America/Los_Angeles:20241209T180000
DTEND;TZID=America/Los_Angeles:20241209T203000
DTSTAMP:20260421T201741
CREATED:20241002T150432Z
LAST-MODIFIED:20241002T150432Z
UID:10000025-1733767200-1733776200@thesoftballclub.com
SUMMARY:Softball under the Lights - Dec 9th\, 2024
DESCRIPTION:
URL:https://thesoftballclub.com/event/softball-under-the-lights-dec-9th-2024/
LOCATION:Lemon Grove Academy Middle Softball Field\, 7866 Lincoln Street\, Lemon Grove\, CA\, 91945\, United States
ATTACH;FMTTYPE=image/webp:https://thesoftballclub.com/wp-content/uploads/2023/12/header-image.webp
END:VEVENT
BEGIN:VEVENT
DTSTART;TZID=America/Los_Angeles:20241216T180000
DTEND;TZID=America/Los_Angeles:20241216T203000
DTSTAMP:20260421T201741
CREATED:20241002T150728Z
LAST-MODIFIED:20241002T151243Z
UID:10000026-1734372000-1734381000@thesoftballclub.com
SUMMARY:Softball under the Lights - Dec 16th\, 2024
DESCRIPTION:
URL:https://thesoftballclub.com/event/lg12162024/
LOCATION:Lemon Grove Academy Middle Softball Field\, 7866 Lincoln Street\, Lemon Grove\, CA\, 91945\, United States
ATTACH;FMTTYPE=image/webp:https://thesoftballclub.com/wp-content/uploads/2023/12/header-image.webp
END:VEVENT
BEGIN:VEVENT
DTSTART;TZID=America/Los_Angeles:20241230T180000
DTEND;TZID=America/Los_Angeles:20241230T203000
DTSTAMP:20260421T201741
CREATED:20241002T152323Z
LAST-MODIFIED:20241002T152323Z
UID:10000027-1735581600-1735590600@thesoftballclub.com
SUMMARY:Softball under the Lights - Dec 30th\, 2024
DESCRIPTION:
URL:https://thesoftballclub.com/event/softball-under-the-lights-dec-30th-2024/
LOCATION:Lemon Grove Academy Middle Softball Field\, 7866 Lincoln Street\, Lemon Grove\, CA\, 91945\, United States
ATTACH;FMTTYPE=image/webp:https://thesoftballclub.com/wp-content/uploads/2023/12/header-image.webp
END:VEVENT
END:VCALENDAR